BEGIN:VCALENDAR
PRODID:-//Calendar export
VERSION:2.0
X-WR-TIMEZONE:Etc/GMT
BEGIN:VTIMEZONE
TZID:GMT Standard Time
BEGIN:STANDARD
TZOFFSETFROM:+0000
TZOFFSETTO:+0000
END:STANDARD
END:VTIMEZONE
BEGIN:VEVENT
UID:AE208
DTSTAMP:20260423T035000Z
SUMMARY:1st Annual Digestive Health Course
CLASS:PUBLIC
DESCRIPTION:This free two-day educational event from 9/25-9/26\, locate
 d at the Phoen
 ician Resort in Scottsdale\, AZ is focused on advancing endoscopy educati
 on for nurses\, techs and fellows. As the first and only course in the So
 uthwest intentionally designed to elevate the entire endoscopy care team\
 , this regional program welcomes participants from across the country.
STATUS:CONFIRMED
PRIORITY:1
DTSTART:20260925T070000Z
DTEND:20260927T065900Z
TRANSP:OPAQUE
END:VEVENT
END:VCALENDAR
